BEGIN:VCALENDAR
VERSION:2.0
PRODID:-//Granite State Choral Society - ECPv6.15.13//NONSGML v1.0//EN
CALSCALE:GREGORIAN
METHOD:PUBLISH
X-WR-CALNAME:Granite State Choral Society
X-ORIGINAL-URL:https://gschoralsociety.org
X-WR-CALDESC:Events for Granite State Choral Society
REFRESH-INTERVAL;VALUE=DURATION:PT1H
X-Robots-Tag:noindex
X-PUBLISHED-TTL:PT1H
BEGIN:VTIMEZONE
TZID:America/New_York
BEGIN:DAYLIGHT
TZOFFSETFROM:-0500
TZOFFSETTO:-0400
TZNAME:EDT
DTSTART:20250309T070000
END:DAYLIGHT
BEGIN:STANDARD
TZOFFSETFROM:-0400
TZOFFSETTO:-0500
TZNAME:EST
DTSTART:20251102T060000
END:STANDARD
BEGIN:DAYLIGHT
TZOFFSETFROM:-0500
TZOFFSETTO:-0400
TZNAME:EDT
DTSTART:20260308T070000
END:DAYLIGHT
BEGIN:STANDARD
TZOFFSETFROM:-0400
TZOFFSETTO:-0500
TZNAME:EST
DTSTART:20261101T060000
END:STANDARD
BEGIN:DAYLIGHT
TZOFFSETFROM:-0500
TZOFFSETTO:-0400
TZNAME:EDT
DTSTART:20270314T070000
END:DAYLIGHT
BEGIN:STANDARD
TZOFFSETFROM:-0400
TZOFFSETTO:-0500
TZNAME:EST
DTSTART:20271107T060000
END:STANDARD
END:VTIMEZONE
BEGIN:VEVENT
DTSTART;VALUE=DATE:20260323
DTEND;VALUE=DATE:20260413
DTSTAMP:20260423T155331
CREATED:20260221T225415Z
LAST-MODIFIED:20260221T232524Z
UID:2374-1774224000-1776038399@gschoralsociety.org
SUMMARY:March Mayhem 2026!
DESCRIPTION:Watch the mayhem unfold!\nTune in each day\, starting March 23\, to see chorus members represent ticketholders and play minigames to advance through the brackets and choose the winners! \nThe live event on April 12th is the final head-to-head competition for each bracket! \nhttps://www.facebook.com/GSChoral/ \nhttps://www.tiktok.com/@granite.state.cho
URL:https://gschoralsociety.org/event/march-mayhem-2026/
LOCATION:NH
CATEGORIES:Fundraiser
END:VEVENT
END:VCALENDAR