BEGIN:VCALENDAR
VERSION:2.0
PRODID:-//Granite State Choral Society - ECPv6.15.13//NONSGML v1.0//EN
CALSCALE:GREGORIAN
METHOD:PUBLISH
X-WR-CALNAME:Granite State Choral Society
X-ORIGINAL-URL:https://gschoralsociety.org
X-WR-CALDESC:Events for Granite State Choral Society
REFRESH-INTERVAL;VALUE=DURATION:PT1H
X-Robots-Tag:noindex
X-PUBLISHED-TTL:PT1H
BEGIN:VTIMEZONE
TZID:America/New_York
BEGIN:DAYLIGHT
TZOFFSETFROM:-0500
TZOFFSETTO:-0400
TZNAME:EDT
DTSTART:20240310T070000
END:DAYLIGHT
BEGIN:STANDARD
TZOFFSETFROM:-0400
TZOFFSETTO:-0500
TZNAME:EST
DTSTART:20241103T060000
END:STANDARD
BEGIN:DAYLIGHT
TZOFFSETFROM:-0500
TZOFFSETTO:-0400
TZNAME:EDT
DTSTART:20250309T070000
END:DAYLIGHT
BEGIN:STANDARD
TZOFFSETFROM:-0400
TZOFFSETTO:-0500
TZNAME:EST
DTSTART:20251102T060000
END:STANDARD
BEGIN:DAYLIGHT
TZOFFSETFROM:-0500
TZOFFSETTO:-0400
TZNAME:EDT
DTSTART:20260308T070000
END:DAYLIGHT
BEGIN:STANDARD
TZOFFSETFROM:-0400
TZOFFSETTO:-0500
TZNAME:EST
DTSTART:20261101T060000
END:STANDARD
BEGIN:DAYLIGHT
TZOFFSETFROM:-0500
TZOFFSETTO:-0400
TZNAME:EDT
DTSTART:20270314T070000
END:DAYLIGHT
BEGIN:STANDARD
TZOFFSETFROM:-0400
TZOFFSETTO:-0500
TZNAME:EST
DTSTART:20271107T060000
END:STANDARD
END:VTIMEZONE
BEGIN:VTIMEZONE
TZID:UTC
BEGIN:STANDARD
TZOFFSETFROM:+0000
TZOFFSETTO:+0000
TZNAME:UTC
DTSTART:20240101T000000
END:STANDARD
END:VTIMEZONE
BEGIN:VEVENT
DTSTART;TZID=America/New_York:20260503T160000
DTEND;TZID=America/New_York:20260503T180000
DTSTAMP:20260423T201400
CREATED:20260221T231630Z
LAST-MODIFIED:20260402T163119Z
UID:2390-1777824000-1777831200@gschoralsociety.org
SUMMARY:GSCS Presents: Rustic Rhythm & Jazz
DESCRIPTION:For our spring 2026 concert\, Sandra M. Thomas and the Granite State Choral Society present an afternoon of\n\nRustic Rhythm & Jazz\nfeaturing Cedar Mountain Bluegrass\nGet discount tickets for Sunday $12.00. Click here.
URL:https://gschoralsociety.org/event/gscs-presents-rustic-rhythm-jazz-2/
LOCATION:First Church Congregational\, 63 South Main Street\, Rochester\, NH\, 03867\, United States
CATEGORIES:Performances
END:VEVENT
BEGIN:VEVENT
DTSTART;TZID=America/New_York:20260502T160000
DTEND;TZID=America/New_York:20260502T180000
DTSTAMP:20260423T201400
CREATED:20260221T230739Z
LAST-MODIFIED:20260402T155253Z
UID:2382-1777737600-1777744800@gschoralsociety.org
SUMMARY:GSCS Presents: Rustic Rhythm & Jazz
DESCRIPTION:For our spring 2026 concert\, Sandra M. Thomas and the Granite State Choral Society present an afternoon of\n\nRustic Rhythm & Jazz\nfeaturing Cedar Mountain Bluegrass\nDiscount online tickets $12.00 Click Here
URL:https://gschoralsociety.org/event/gscs-presents-rustic-rhythm-jazz/
LOCATION:First United Methodist Church\, 34 S. Main Street\, Rochester\, NH\, 03867
CATEGORIES:Performances
END:VEVENT
BEGIN:VEVENT
DTSTART;VALUE=DATE:20260323
DTEND;VALUE=DATE:20260413
DTSTAMP:20260423T201400
CREATED:20260221T225415Z
LAST-MODIFIED:20260221T232524Z
UID:2374-1774224000-1776038399@gschoralsociety.org
SUMMARY:March Mayhem 2026!
DESCRIPTION:Watch the mayhem unfold!\nTune in each day\, starting March 23\, to see chorus members represent ticketholders and play minigames to advance through the brackets and choose the winners! \nThe live event on April 12th is the final head-to-head competition for each bracket! \nhttps://www.facebook.com/GSChoral/ \nhttps://www.tiktok.com/@granite.state.cho
URL:https://gschoralsociety.org/event/march-mayhem-2026/
LOCATION:NH
CATEGORIES:Fundraiser
END:VEVENT
BEGIN:VEVENT
DTSTART;TZID=America/New_York:20260118T153000
DTEND;TZID=America/New_York:20260118T183000
DTSTAMP:20260423T201400
CREATED:20251214T050238Z
LAST-MODIFIED:20260104T003859Z
UID:2153-1768750200-1768761000@gschoralsociety.org
SUMMARY:Spring 2026 Registration and First Rehearsal
DESCRIPTION:Registration for new members will start at 3:30 p.m.\nOur first rehearsal of the Spring 2026 season will run from 4:00 p.m.-6:30 p.m.!\nMore information for new members can be found at How To Join – Granite State Choral Society. \nReady to sign up? No need to wait for the first rehearsal! You can fill out our registration form now. \n\n        \n            \n                                                \n\n                                        \n                        20250817_18095820250817_181018.webp20250817_180828.webp
URL:https://gschoralsociety.org/event/spring-2026-registration-and-first-rehearsal/
LOCATION:First Church Congregational\, 63 South Main Street\, Rochester\, NH\, 03867\, United States
CATEGORIES:Member Events
ATTACH;FMTTYPE=image/jpeg:https://gschoralsociety.org/wp-content/uploads/2025/12/Ad-2-Jan-2026.jpg
END:VEVENT
BEGIN:VEVENT
DTSTART;TZID=America/New_York:20251123T160000
DTEND;TZID=America/New_York:20251123T173000
DTSTAMP:20260423T201400
CREATED:20250814T020104Z
LAST-MODIFIED:20251008T223641Z
UID:1989-1763913600-1763919000@gschoralsociety.org
SUMMARY:Through Love to Light: A Journey in Song
DESCRIPTION:Granite State Choral Society\, under the direction of Sandra M. Thomas\, presents our Fall/Winter 2025 concert series. Tickets are $15 at the door. Online tickets are $10.00. \nSunday\, Nov. 23 – Buy online tickets here. \n  \n  \n  \n 
URL:https://gschoralsociety.org/event/through-love-to-light-a-journey-in-song-2/
LOCATION:North Church of Portsmouth\, 2 Congress Street\, Portsmouth\, 03801\, United States
CATEGORIES:Performances
ATTACH;FMTTYPE=application/pdf:https://gschoralsociety.org/wp-content/uploads/2025/08/GSCS-Fall-2025-Concert-Poster-1.pdf
END:VEVENT
BEGIN:VEVENT
DTSTART;TZID=America/New_York:20251122T160000
DTEND;TZID=America/New_York:20251122T173000
DTSTAMP:20260423T201400
CREATED:20250814T015656Z
LAST-MODIFIED:20251008T223817Z
UID:1983-1763827200-1763832600@gschoralsociety.org
SUMMARY:Through Love to Light: A Journey in Song
DESCRIPTION:Granite State Choral Society\, under the direction of Sandra M. Thomas\, presents our Fall/Winter 2025 concert series. Tickets are $15 at the door. Online tickets are $10.00. \nSaturday Nov. 22 – Buy online tickets here.
URL:https://gschoralsociety.org/event/through-love-to-light-a-journey-in-song/
LOCATION:First Church Congregational\, 63 South Main Street\, Rochester\, NH\, 03867\, United States
CATEGORIES:Performances
ATTACH;FMTTYPE=application/pdf:https://gschoralsociety.org/wp-content/uploads/2025/08/GSCS-Fall-2025-Concert-Poster.pdf
END:VEVENT
BEGIN:VEVENT
DTSTART;TZID=America/New_York:20251108T093000
DTEND;TZID=America/New_York:20251108T150000
DTSTAMP:20260423T201400
CREATED:20250814T014112Z
LAST-MODIFIED:20251105T010118Z
UID:1978-1762594200-1762614000@gschoralsociety.org
SUMMARY:Shop ‘Til You Drop Craft Fair
DESCRIPTION:
URL:https://gschoralsociety.org/event/shop-til-you-drop-craft-fair/
LOCATION:James W. Foley Memorial Community Center\, 150 Wakefield Street\, Rochester\, NH\, 03867\, United States
CATEGORIES:Fundraiser
END:VEVENT
BEGIN:VEVENT
DTSTART;TZID=UTC:20250518T150000
DTEND;TZID=UTC:20250518T160000
DTSTAMP:20260423T201400
CREATED:20250504T191322Z
LAST-MODIFIED:20250504T191322Z
UID:456-1747580400-1747584000@gschoralsociety.org
SUMMARY:Voices of Inspiration: A Celebration of Harmony and Heritage
DESCRIPTION:Granite State Choral Society\, under the direction of Sandra M. Thomas presents a FREE concert!\nVoices of Inspiration: A Celebration of Harmony and Heritage
URL:https://gschoralsociety.org/event/voices-of-inspiration-a-celebration-of-harmony-and-heritage-2/
LOCATION:First Parish Congregational Church\, Dover\, 218 Central Ave\, Dover\, 03820\, United States
ATTACH;FMTTYPE=image/jpeg:https://gschoralsociety.org/wp-content/uploads/2025/05/Voices-of-Inspiration_-A-Celebration-of-Harmony-and-Heritage.jpg
END:VEVENT
BEGIN:VEVENT
DTSTART;TZID=UTC:20250517T190000
DTEND;TZID=UTC:20250517T200000
DTSTAMP:20260423T201400
CREATED:20250504T191147Z
LAST-MODIFIED:20250504T191156Z
UID:453-1747508400-1747512000@gschoralsociety.org
SUMMARY:Voices of Inspiration: A Celebration of Harmony and Heritage
DESCRIPTION:Granite State Choral Society\, under the direction of Sandra M. Thomas presents a FREE concert!\nVoices of Inspiration: A Celebration of Harmony and Heritage
URL:https://gschoralsociety.org/event/voices-of-inspiration-a-celebration-of-harmony-and-heritage/
LOCATION:First Parish Congregational Church\, Dover\, 218 Central Ave\, Dover\, 03820\, United States
ATTACH;FMTTYPE=image/jpeg:https://gschoralsociety.org/wp-content/uploads/2025/05/Voices-of-Inspiration_-A-Celebration-of-Harmony-and-Heritage.jpg
END:VEVENT
END:VCALENDAR