BEGIN:VCALENDAR
VERSION:2.0
PRODID:-//Granite State Choral Society - ECPv6.15.13//NONSGML v1.0//EN
CALSCALE:GREGORIAN
METHOD:PUBLISH
X-WR-CALNAME:Granite State Choral Society
X-ORIGINAL-URL:https://gschoralsociety.org
X-WR-CALDESC:Events for Granite State Choral Society
REFRESH-INTERVAL;VALUE=DURATION:PT1H
X-Robots-Tag:noindex
X-PUBLISHED-TTL:PT1H
BEGIN:VTIMEZONE
TZID:UTC
BEGIN:STANDARD
TZOFFSETFROM:+0000
TZOFFSETTO:+0000
TZNAME:UTC
DTSTART:20240101T000000
END:STANDARD
END:VTIMEZONE
BEGIN:VEVENT
DTSTART;TZID=UTC:20250518T150000
DTEND;TZID=UTC:20250518T160000
DTSTAMP:20260424T051406
CREATED:20250504T191322Z
LAST-MODIFIED:20250504T191322Z
UID:456-1747580400-1747584000@gschoralsociety.org
SUMMARY:Voices of Inspiration: A Celebration of Harmony and Heritage
DESCRIPTION:Granite State Choral Society\, under the direction of Sandra M. Thomas presents a FREE concert!\nVoices of Inspiration: A Celebration of Harmony and Heritage
URL:https://gschoralsociety.org/event/voices-of-inspiration-a-celebration-of-harmony-and-heritage-2/
LOCATION:First Parish Congregational Church\, Dover\, 218 Central Ave\, Dover\, 03820\, United States
ATTACH;FMTTYPE=image/jpeg:https://gschoralsociety.org/wp-content/uploads/2025/05/Voices-of-Inspiration_-A-Celebration-of-Harmony-and-Heritage.jpg
END:VEVENT
BEGIN:VEVENT
DTSTART;TZID=UTC:20250517T190000
DTEND;TZID=UTC:20250517T200000
DTSTAMP:20260424T051406
CREATED:20250504T191147Z
LAST-MODIFIED:20250504T191156Z
UID:453-1747508400-1747512000@gschoralsociety.org
SUMMARY:Voices of Inspiration: A Celebration of Harmony and Heritage
DESCRIPTION:Granite State Choral Society\, under the direction of Sandra M. Thomas presents a FREE concert!\nVoices of Inspiration: A Celebration of Harmony and Heritage
URL:https://gschoralsociety.org/event/voices-of-inspiration-a-celebration-of-harmony-and-heritage/
LOCATION:First Parish Congregational Church\, Dover\, 218 Central Ave\, Dover\, 03820\, United States
ATTACH;FMTTYPE=image/jpeg:https://gschoralsociety.org/wp-content/uploads/2025/05/Voices-of-Inspiration_-A-Celebration-of-Harmony-and-Heritage.jpg
END:VEVENT
END:VCALENDAR